BEGIN:VCALENDAR
VERSION:2.0
PRODID:-//Wondertrek Children&#039;s Museum | Brainerd, Baxter, MN - ECPv6.15.18//NONSGML v1.0//EN
CALSCALE:GREGORIAN
METHOD:PUBLISH
X-ORIGINAL-URL:https://wondertrekmuseum.org
X-WR-CALDESC:Events for Wondertrek Children&#039;s Museum | Brainerd, Baxter, MN
REFRESH-INTERVAL;VALUE=DURATION:PT1H
X-Robots-Tag:noindex
X-PUBLISHED-TTL:PT1H
BEGIN:VTIMEZONE
TZID:America/Chicago
BEGIN:DAYLIGHT
TZOFFSETFROM:-0600
TZOFFSETTO:-0500
TZNAME:CDT
DTSTART:20250309T080000
END:DAYLIGHT
BEGIN:STANDARD
TZOFFSETFROM:-0500
TZOFFSETTO:-0600
TZNAME:CST
DTSTART:20251102T070000
END:STANDARD
BEGIN:DAYLIGHT
TZOFFSETFROM:-0600
TZOFFSETTO:-0500
TZNAME:CDT
DTSTART:20260308T080000
END:DAYLIGHT
BEGIN:STANDARD
TZOFFSETFROM:-0500
TZOFFSETTO:-0600
TZNAME:CST
DTSTART:20261101T070000
END:STANDARD
BEGIN:DAYLIGHT
TZOFFSETFROM:-0600
TZOFFSETTO:-0500
TZNAME:CDT
DTSTART:20270314T080000
END:DAYLIGHT
BEGIN:STANDARD
TZOFFSETFROM:-0500
TZOFFSETTO:-0600
TZNAME:CST
DTSTART:20271107T070000
END:STANDARD
END:VTIMEZONE
BEGIN:VEVENT
DTSTART;TZID=America/Chicago:20260502T110000
DTEND;TZID=America/Chicago:20260502T140000
DTSTAMP:20260424T035847
CREATED:20260415T212046Z
LAST-MODIFIED:20260415T212046Z
UID:10000427-1777719600-1777730400@wondertrekmuseum.org
SUMMARY:Arbor Day Celebration
DESCRIPTION:Celebrate Arbor Day with WonderTrek at the Northland Arboretum! Join us for a hands-on\, nature-based play experience designed for curious kids and their grown-ups. Explore\, create\, and discover through outdoor activities in the beautiful nature playscape—perfect for digging\, building\, observing\, and letting imaginations run wild. \nThis event is designed to take place outside\, so come dressed for the weather and ready to play in nature. In case of inclement weather\, activities will be adapted for an indoor experience that still brings the wonder of nature to life.
URL:https://wondertrekmuseum.org/event/arbor-day-celebration/
LOCATION:Northland Arboretum\, 14250 Conservation Dr\, Baxter\, MN\, 56425\, United States
ATTACH;FMTTYPE=image/jpeg:https://wondertrekmuseum.org/wp-content/uploads/Arbor-Day-at-the-Arboretum.jpg
END:VEVENT
END:VCALENDAR